BEGIN:VCALENDAR
VERSION:2.0
PRODID:icalendar-ruby
CALSCALE:GREGORIAN
METHOD:PUBLISH
BEGIN:VEVENT
DTSTAMP:20260425T012951Z
UID:135-1344833@calvarycbc.org
DTSTART:20261012T230000Z
DTEND:20261013T010000Z
CLASS:PUBLIC
CREATED:20260424T185800
DESCRIPTION:
LAST-MODIFIED:20260424T185800
LOCATION:Room #7
SUMMARY:Monday Night Lay Shepherd Bible Study
URL;VALUE=URI:https://calvarycbc.org/events/monday-night-lay-shepherd-bible
 -study/2026-10-12
END:VEVENT
END:VCALENDAR
