BEGIN:VCALENDAR
VERSION:2.0
PRODID:icalendar-ruby
CALSCALE:GREGORIAN
METHOD:PUBLISH
BEGIN:VEVENT
DTSTAMP:20260425T025157Z
UID:135-1345968@calvarycbc.org
DTSTART:20261019T230000Z
DTEND:20261020T010000Z
CLASS:PUBLIC
CREATED:20260424T214641
DESCRIPTION:
LAST-MODIFIED:20260424T214641
LOCATION:Room #7
SUMMARY:Monday Night Lay Shepherd Bible Study
URL;VALUE=URI:https://calvarycbc.org/events/monday-night-lay-shepherd-bible
 -study/2026-10-19
END:VEVENT
END:VCALENDAR
